BEGIN:VCALENDAR
VERSION:2.0
METHOD:PUBLISH
PRODID:-//Accessible Web Design//My Calendar//http://www.joedolson.com//v//EN';
BEGIN:VEVENT
UID:123-113
LOCATION:
SUMMARY:Predstavljanje izdavačke djelatnosti Akademije
DTSTAMP:20240611T110000
ORGANIZER;CN=Kristina Vinković:MAILTO:kristina.vinkovic@aukos.hr
DTSTART:20240611T110000
DTEND:20240611T120000
CATEGORIES:General
URL;VALUE=URI:https://www.uaos.unios.hr/mc-events/predstavljanje-izdavacke-djelatnosti-akademije/?mc_id=123
DESCRIPTION:11.6. u 11:00 h, Salon 33, Trg Sv. Trojstva 3, Tvrđa Predstavljanje izdavačke djelatnosti Akademije
END:VEVENT
END:VCALENDAR