BEGIN:VCALENDAR
VERSION:2.0
METHOD:PUBLISH
PRODID:-//Accessible Web Design//My Calendar//http://www.joedolson.com//v//EN';
BEGIN:VEVENT
UID:130-118
LOCATION:
SUMMARY:Dani europske baštine 2024. (14.10. / 18.10.2024.)
DTSTAMP:20241014T090000
ORGANIZER;CN=Kristina Vinković:MAILTO:kristina.vinkovic@aukos.hr
DTSTART:20241014T090000
DTEND:20241014T100000
CATEGORIES:General
URL;VALUE=URI:https://www.uaos.unios.hr/mc-events/dani-europske-bastine-2024-14-10-18-10-2024/?mc_id=130
DESCRIPTION:Radionica u muzeju Escape room u Arheološkom- Dodiri kultura (doc. dr. sc. Lana Skender, Ena Krnčević, kustosica - muzejska pedagoginja) 14.10.2024., 9:00h Arheološki muzej  Osijek, Trg sv. Trojstva 2, 31000 Osijek _________________________________________________________________________________________________ Predavanje Voda: rutama sv. Ivana Nepomuka i izvora u Baranji ( dr. sc . Iva Papić, ass) 14.10.2024., 9:00h Akademija za umjetnost i&hellip;
END:VEVENT
END:VCALENDAR