BEGIN:VCALENDAR
VERSION:2.0
METHOD:PUBLISH
PRODID:-//Accessible Web Design//My Calendar//http://www.joedolson.com//v//EN';
BEGIN:VEVENT
UID:328-252
LOCATION:
SUMMARY:Međunarodna studentska kiparska radionica „Drvo" (20. - 27.04.2026.)
DTSTAMP:20260420T100000
ORGANIZER;CN=Kristina Vinković:MAILTO:kristina.vinkovic@aukos.hr
DTSTART:20260420T100000
DTEND:20260420T110000
CATEGORIES:Testna kategorija
URL;VALUE=URI:https://www.uaos.unios.hr/mc-events/medunarodna-studentska-kiparska-radionica-drvo-20-27-04-2026/?mc_id=328
DESCRIPTION:20. – 27. 4. 2026. / 10:00 h / Lovačka kuća Merolino, Prkovci, UŠP Vinkovci Hrvatske šume ORGANIZATOR: Akademija za umjetnost i kulturu u Osijeku Odsjek za vizualnu i medijsku umjetnost &nbsp;
END:VEVENT
END:VCALENDAR