BEGIN:VCALENDAR
VERSION:2.0
METHOD:PUBLISH
PRODID:-//Accessible Web Design//My Calendar//http://www.joedolson.com//v//EN';
BEGIN:VEVENT
UID:329-299
LOCATION:
SUMMARY:Dan planeta Zemlje 2026.
DTSTAMP:20260422T150000
ORGANIZER;CN=Kristina Vinković:MAILTO:kristina.vinkovic@aukos.hr
DTSTART:20260422T150000
DTEND:20260422T160000
CATEGORIES:General
URL;VALUE=URI:https://www.uaos.unios.hr/mc-events/dan-planeta-zemlje-2026/?mc_id=329
DESCRIPTION:22.04.2026. / 15:00 h / predavaonica br. 15 (drugi kat), Trg Sv. Trojstva 3, Tvrđa Organizator: Akademija za umjetnost i kulturu u Osijeku Udruga PLANTaža
END:VEVENT
END:VCALENDAR